BEGIN:VCALENDAR
VERSION:2.0
PRODID:-//Tukios.com/
BEGIN:VEVENT
UID:f128134c-4e53-4cb8-ad88-7781e7847e9d@www.barryfuneralhome.com
DTSTAMP:20260420T222142Z
DTSTART:20260423T190000Z
DTEND:20260423T220000Z
SUMMARY:Visitation
DESCRIPTION:
URL:https://www.barryfuneralhome.com/obituaries/russell-gritsch
LOCATION:Barry Funeral Home 807 West Chestnut Street  Rome NY 13440
GEO:43.2364958;-75.4541547
END:VEVENT
END:VCALENDAR