BEGIN:VCALENDAR
VERSION:2.0
PRODID:-//Tukios.com/
BEGIN:VEVENT
UID:6da350dd-6642-4356-afd9-484d06667280@www.barryfuneralhome.com
DTSTAMP:20260420T221540Z
DTSTART:20260423T220000Z
DTEND:20260423T230000Z
SUMMARY:Funeral Service
DESCRIPTION:
URL:https://www.barryfuneralhome.com/obituaries/russell-gritsch
LOCATION:Barry Funeral Home 807 West Chestnut Street  Rome NY 13440
GEO:43.2364958;-75.4541547
END:VEVENT
END:VCALENDAR