BEGIN:VCALENDAR
VERSION:2.0
PRODID:-//Tukios.com/
BEGIN:VEVENT
UID:5a200316-d502-421e-8ed6-8e3c2516e5cc@www.barryfuneralhome.com
DTSTAMP:20260424T093632Z
DTSTART:20260527T150000Z
DTEND:20260527T160000Z
SUMMARY:Burial
DESCRIPTION:
URL:https://www.barryfuneralhome.com/obituaries/bonnie-helser
LOCATION: 6195 Cemetery Road  Lee Center NY 13363
GEO:43.2978641;-75.4756177
END:VEVENT
END:VCALENDAR